Workbook

Sheet الاستبيان
A1: نموذج استبيان تقييم التدريب
A2: مقياس الإجابة
C3: 1 = غير موافق بشدة | D3: 2 = غير موافق | E3: 3 = محايد | F3: 4 = موافق | G3: 5 = موافق بشدة | H3: لا ينطبق
A5: الرقم | B5: السؤال | C5: 1 | D5: 2 | E5: 3 | F5: 4 | G5: 5 | H5: لا ينطبق
A6: 1 | B6: التدريب الذي حصلت عليه في السنة الماضية كان مرتبطاً بعملي.
A7: 2 | B7: استطعت تطبيق ما تعلمته خلال شهر من التدريب.
A8: 3 | B8: التدريب كان بلغة أستطيع متابعتها بسهولة.
A9: 4 | B9: معظم المدربين الذين درّبوني في السنة الماضية كانوا يعرفون موضوعهم جيداً.
A10: 5 | B10: كثيراً ما كانت مواعيد التدريب تتعارض مع عملي. (تقييم عكسي)
A11: 6 | B11: مديري ناقش معي التدريب قبل حضوره أو بعده.
A12: 7 | B12: يصعب عليّ معرفة التدريب المتاح لي. (تقييم عكسي)
A13: 8 | B13: فرص التدريب عادلة بين كل الفرق والمستويات الوظيفية.
A14: 9 | B14: معظم التدريبات التي حضرتها كانت مدتها مناسبة لمحتواها.
A15: 10 | B15: المواد التدريبية مفيدة عندما أرجع إليها لاحقاً.
A16: 11 | B16: أحصل على التدريب الذي أحتاجه لأقوم بعملي بأمان.
A17: 12 | B17: التدريب الذي أحصل عليه يساعدني على التقدم في مساري المهني.
... A19: 14 | B19: بشكل عام، التدريب هنا يساعدني على أداء عملي بشكل أفضل.
A21: أسئلة مفتوحة
A22: 1. أي تدريب في السنة الماضية ساعدك أكثر، ولماذا؟
A23: 2. ما هو التدريب الذي سيحدث أكبر فرق في عملك في السنة القادمة؟
A25: نموذج من إعداد GoldinKollar (goldinkollar.com). يمكنك استخدامه وتعديله مجاناً داخل مؤسستك.

Sheet الردود
A1: المشارك | B1: المجموعة | C1: السؤال 1 | D1: السؤال 2 | E1: السؤال 3 | F1: السؤال 4 | G1: السؤال 5 | H1: السؤال 6 | I1: السؤال 7 | J1: السؤال 8 | K1: السؤال 9 | L1: السؤال 10 | M1: السؤال 11 | N1: السؤال 12 | O1: السؤال 13 | P1: السؤال 14
A2: 1
A3: 2
A4: 3
A5: 4
A6: 5
A7: 6
A8: 7
A9: 8
A10: 9
A11: 10
A12: 11
A13: 12
... A301: 300

Sheet النتائج
A1: نموذج استبيان تقييم التدريب
A2: أدخل كل إجابة من 1 إلى 5 في ورقة «الردود»، صف واحد لكل مشارك. الأسئلة التي عليها علامة (تقييم عكسي) تُعكس درجاتها قبل أي حساب. تُخفى النتيجة إذا كان عدد إجابات السؤال أقل من 5.
A3: المجموعة | C3: اكتب اسم مجموعة لحساب نتائجها فقط، أو اتركه فارغاً لحساب نتائج الجميع.
A5: الرقم | B5: السؤال | C5: تقييم عكسي | D5: عدد الإجابات | E5: إيجابي (4-5) | F5: سلبي (1-2) | G5: المتوسط
A6: 1 | B6: التدريب الذي حصلت عليه في السنة الماضية كان مرتبطاً بعملي. | C6: لا | D6: =SUMPRODUCT((('الردود'!$B$2:$B$301=$B$3)+($B$3="")>0)*ISNUMBER('الردود'!$C$2:$C$301)) | E6: =IF($D6<5,"",IF($C6="نعم",SUMPRODUCT((('الردود'!$B$2:$B$301=$B$3)+($B$3="")>0)*('الردود'!$C$2:$C$301>=1)*('الردود'!$C$2:$C$301<=2)),SUMPRODUCT((('الردود'!$B$2:$B$301=$B$3)+($B$3="")>0)*('الردود'!$C$2:$C$301>=4)*('الردود'!$C$2:$C$301<=5)))/$D6) | F6: =IF($D6<5,"",IF($C6="نعم",SUMPRODUCT((('الردود'!$B$2:$B$301=$B$3)+($B$3="")>0)*('الردود'!$C$2:$C$301>=4)*('الردود'!$C$2:$C$301<=5)),SUMPRODUCT((('الردود'!$B$2:$B$301=$B$3)+($B$3="")>0)*('الردود'!$C$2:$C$301>=1)*('الردود'!$C$2:$C$301<=2)))/$D6) | G6: =IF($D6<5,"",IF($C6="نعم",6-SUMPRODUCT((('الردود'!$B$2:$B$301=$B$3)+($B$3="")>0)*ISNUMBER('الردود'!$C$2:$C$301)*'الردود'!$C$2:$C$301)/$D6,SUMPRODUCT((('الردود'!$B$2:$B$301=$B$3)+($B$3="")>0)*ISNUMBER('الردود'!$C$2:$C$301)*'الردود'!$C$2:$C$301)/$D6))
A7: 2 | B7: استطعت تطبيق ما تعلمته خلال شهر من التدريب. | C7: لا | D7: =SUMPRODUCT((('الردود'!$B$2:$B$301=$B$3)+($B$3="")>0)*ISNUMBER('الردود'!$D$2:$D$301)) | E7: =IF($D7<5,"",IF($C7="نعم",SUMPRODUCT((('الردود'!$B$2:$B$301=$B$3)+($B$3="")>0)*('الردود'!$D$2:$D$301>=1)*('الردود'!$D$2:$D$301<=2)),SUMPRODUCT((('الردود'!$B$2:$B$301=$B$3)+($B$3="")>0)*('الردود'!$D$2:$D$301>=4)*('الردود'!$D$2:$D$301<=5)))/$D7) | F7: =IF($D7<5,"",IF($C7="نعم",SUMPRODUCT((('الردود'!$B$2:$B$301=$B$3)+($B$3="")>0)*('الردود'!$D$2:$D$301>=4)*('الردود'!$D$2:$D$301<=5)),SUMPRODUCT((('الردود'!$B$2:$B$301=$B$3)+($B$3="")>0)*('الردود'!$D$2:$D$301>=1)*('الردود'!$D$2:$D$301<=2)))/$D7) | G7: =IF($D7<5,"",IF($C7="نعم",6-SUMPRODUCT((('الردود'!$B$2:$B$301=$B$3)+($B$3="")>0)*ISNUMBER('الردود'!$D$2:$D$301)*'الردود'!$D$2:$D$301)/$D7,SUMPRODUCT((('الردود'!$B$2:$B$301=$B$3)+($B$3="")>0)*ISNUMBER('الردود'!$D$2:$D$301)*'الردود'!$D$2:$D$301)/$D7))
A8: 3 | B8: التدريب كان بلغة أستطيع متابعتها بسهولة. | C8: لا | D8: =SUMPRODUCT((('الردود'!$B$2:$B$301=$B$3)+($B$3="")>0)*ISNUMBER('الردود'!$E$2:$E$301)) | E8: =IF($D8<5,"",IF($C8="نعم",SUMPRODUCT((('الردود'!$B$2:$B$301=$B$3)+($B$3="")>0)*('الردود'!$E$2:$E$301>=1)*('الردود'!$E$2:$E$301<=2)),SUMPRODUCT((('الردود'!$B$2:$B$301=$B$3)+($B$3="")>0)*('الردود'!$E$2:$E$301>=4)*('الردود'!$E$2:$E$301<=5)))/$D8) | F8: =IF($D8<5,"",IF($C8="نعم",SUMPRODUCT((('الردود'!$B$2:$B$301=$B$3)+($B$3="")>0)*('الردود'!$E$2:$E$301>=4)*('الردود'!$E$2:$E$301<=5)),SUMPRODUCT((('الردود'!$B$2:$B$301=$B$3)+($B$3="")>0)*('الردود'!$E$2:$E$301>=1)*('الردود'!$E$2:$E$301<=2)))/$D8) | G8: =IF($D8<5,"",IF($C8="نعم",6-SUMPRODUCT((('الردود'!$B$2:$B$301=$B$3)+($B$3="")>0)*ISNUMBER('الردود'!$E$2:$E$301)*'الردود'!$E$2:$E$301)/$D8,SUMPRODUCT((('الردود'!$B$2:$B$301=$B$3)+($B$3="")>0)*ISNUMBER('الردود'!$E$2:$E$301)*'الردود'!$E$2:$E$301)/$D8))
A9: 4 | B9: معظم المدربين الذين درّبوني في السنة الماضية كانوا يعرفون موضوعهم جيداً. | C9: لا | D9: =SUMPRODUCT((('الردود'!$B$2:$B$301=$B$3)+($B$3="")>0)*ISNUMBER('الردود'!$F$2:$F$301)) | E9: =IF($D9<5,"",IF($C9="نعم",SUMPRODUCT((('الردود'!$B$2:$B$301=$B$3)+($B$3="")>0)*('الردود'!$F$2:$F$301>=1)*('الردود'!$F$2:$F$301<=2)),SUMPRODUCT((('الردود'!$B$2:$B$301=$B$3)+($B$3="")>0)*('الردود'!$F$2:$F$301>=4)*('الردود'!$F$2:$F$301<=5)))/$D9) | F9: =IF($D9<5,"",IF($C9="نعم",SUMPRODUCT((('الردود'!$B$2:$B$301=$B$3)+($B$3="")>0)*('الردود'!$F$2:$F$301>=4)*('الردود'!$F$2:$F$301<=5)),SUMPRODUCT((('الردود'!$B$2:$B$301=$B$3)+($B$3="")>0)*('الردود'!$F$2:$F$301>=1)*('الردود'!$F$2:$F$301<=2)))/$D9) | G9: =IF($D9<5,"",IF($C9="نعم",6-SUMPRODUCT((('الردود'!$B$2:$B$301=$B$3)+($B$3="")>0)*ISNUMBER('الردود'!$F$2:$F$301)*'الردود'!$F$2:$F$301)/$D9,SUMPRODUCT((('الردود'!$B$2:$B$301=$B$3)+($B$3="")>0)*ISNUMBER('الردود'!$F$2:$F$301)*'الردود'!$F$2:$F$301)/$D9))
A10: 5 | B10: كثيراً ما كانت مواعيد التدريب تتعارض مع عملي. | C10: نعم | D10: =SUMPRODUCT((('الردود'!$B$2:$B$301=$B$3)+($B$3="")>0)*ISNUMBER('الردود'!$G$2:$G$301)) | E10: =IF($D10<5,"",IF($C10="نعم",SUMPRODUCT((('الردود'!$B$2:$B$301=$B$3)+($B$3="")>0)*('الردود'!$G$2:$G$301>=1)*('الردود'!$G$2:$G$301<=2)),SUMPRODUCT((('الردود'!$B$2:$B$301=$B$3)+($B$3="")>0)*('الردود'!$G$2:$G$301>=4)*('الردود'!$G$2:$G$301<=5)))/$D10) | F10: =IF($D10<5,"",IF($C10="نعم",SUMPRODUCT((('الردود'!$B$2:$B$301=$B$3)+($B$3="")>0)*('الردود'!$G$2:$G$301>=4)*('الردود'!$G$2:$G$301<=5)),SUMPRODUCT((('الردود'!$B$2:$B$301=$B$3)+($B$3="")>0)*('الردود'!$G$2:$G$301>=1)*('الردود'!$G$2:$G$301<=2)))/$D10) | G10: =IF($D10<5,"",IF($C10="نعم",6-SUMPRODUCT((('الردود'!$B$2:$B$301=$B$3)+($B$3="")>0)*ISNUMBER('الردود'!$G$2:$G$301)*'الردود'!$G$2:$G$301)/$D10,SUMPRODUCT((('الردود'!$B$2:$B$301=$B$3)+($B$3="")>0)*ISNUMBER('الردود'!$G$2:$G$301)*'الردود'!$G$2:$G$301)/$D10))
A11: 6 | B11: مديري ناقش معي التدريب قبل حضوره أو بعده. | C11: لا | D11: =SUMPRODUCT((('الردود'!$B$2:$B$301=$B$3)+($B$3="")>0)*ISNUMBER('الردود'!$H$2:$H$301)) | E11: =IF($D11<5,"",IF($C11="نعم",SUMPRODUCT((('الردود'!$B$2:$B$301=$B$3)+($B$3="")>0)*('الردود'!$H$2:$H$301>=1)*('الردود'!$H$2:$H$301<=2)),SUMPRODUCT((('الردود'!$B$2:$B$301=$B$3)+($B$3="")>0)*('الردود'!$H$2:$H$301>=4)*('الردود'!$H$2:$H$301<=5)))/$D11) | F11: =IF($D11<5,"",IF($C11="نعم",SUMPRODUCT((('الردود'!$B$2:$B$301=$B$3)+($B$3="")>0)*('الردود'!$H$2:$H$301>=4)*('الردود'!$H$2:$H$301<=5)),SUMPRODUCT((('الردود'!$B$2:$B$301=$B$3)+($B$3="")>0)*('الردود'!$H$2:$H$301>=1)*('الردود'!$H$2:$H$301<=2)))/$D11) | G11: =IF($D11<5,"",IF($C11="نعم",6-SUMPRODUCT((('الردود'!$B$2:$B$301=$B$3)+($B$3="")>0)*ISNUMBER('الردود'!$H$2:$H$301)*'الردود'!$H$2:$H$301)/$D11,SUMPRODUCT((('الردود'!$B$2:$B$301=$B$3)+($B$3="")>0)*ISNUMBER('الردود'!$H$2:$H$301)*'الردود'!$H$2:$H$301)/$D11))
A12: 7 | B12: يصعب عليّ معرفة التدريب المتاح لي. | C12: نعم | D12: =SUMPRODUCT((('الردود'!$B$2:$B$301=$B$3)+($B$3="")>0)*ISNUMBER('الردود'!$I$2:$I$301)) | E12: =IF($D12<5,"",IF($C12="نعم",SUMPRODUCT((('الردود'!$B$2:$B$301=$B$3)+($B$3="")>0)*('الردود'!$I$2:$I$301>=1)*('الردود'!$I$2:$I$301<=2)),SUMPRODUCT((('الردود'!$B$2:$B$301=$B$3)+($B$3="")>0)*('الردود'!$I$2:$I$301>=4)*('الردود'!$I$2:$I$301<=5)))/$D12) | F12: =IF($D12<5,"",IF($C12="نعم",SUMPRODUCT((('الردود'!$B$2:$B$301=$B$3)+($B$3="")>0)*('الردود'!$I$2:$I$301>=4)*('الردود'!$I$2:$I$301<=5)),SUMPRODUCT((('الردود'!$B$2:$B$301=$B$3)+($B$3="")>0)*('الردود'!$I$2:$I$301>=1)*('الردود'!$I$2:$I$301<=2)))/$D12) | G12: =IF($D12<5,"",IF($C12="نعم",6-SUMPRODUCT((('الردود'!$B$2:$B$301=$B$3)+($B$3="")>0)*ISNUMBER('الردود'!$I$2:$I$301)*'الردود'!$I$2:$I$301)/$D12,SUMPRODUCT((('الردود'!$B$2:$B$301=$B$3)+($B$3="")>0)*ISNUMBER('الردود'!$I$2:$I$301)*'الردود'!$I$2:$I$301)/$D12))
A13: 8 | B13: فرص التدريب عادلة بين كل الفرق والمستويات الوظيفية. | C13: لا | D13: =SUMPRODUCT((('الردود'!$B$2:$B$301=$B$3)+($B$3="")>0)*ISNUMBER('الردود'!$J$2:$J$301)) | E13: =IF($D13<5,"",IF($C13="نعم",SUMPRODUCT((('الردود'!$B$2:$B$301=$B$3)+($B$3="")>0)*('الردود'!$J$2:$J$301>=1)*('الردود'!$J$2:$J$301<=2)),SUMPRODUCT((('الردود'!$B$2:$B$301=$B$3)+($B$3="")>0)*('الردود'!$J$2:$J$301>=4)*('الردود'!$J$2:$J$301<=5)))/$D13) | F13: =IF($D13<5,"",IF($C13="نعم",SUMPRODUCT((('الردود'!$B$2:$B$301=$B$3)+($B$3="")>0)*('الردود'!$J$2:$J$301>=4)*('الردود'!$J$2:$J$301<=5)),SUMPRODUCT((('الردود'!$B$2:$B$301=$B$3)+($B$3="")>0)*('الردود'!$J$2:$J$301>=1)*('الردود'!$J$2:$J$301<=2)))/$D13) | G13: =IF($D13<5,"",IF($C13="نعم",6-SUMPRODUCT((('الردود'!$B$2:$B$301=$B$3)+($B$3="")>0)*ISNUMBER('الردود'!$J$2:$J$301)*'الردود'!$J$2:$J$301)/$D13,SUMPRODUCT((('الردود'!$B$2:$B$301=$B$3)+($B$3="")>0)*ISNUMBER('الردود'!$J$2:$J$301)*'الردود'!$J$2:$J$301)/$D13))
A14: 9 | B14: معظم التدريبات التي حضرتها كانت مدتها مناسبة لمحتواها. | C14: لا | D14: =SUMPRODUCT((('الردود'!$B$2:$B$301=$B$3)+($B$3="")>0)*ISNUMBER('الردود'!$K$2:$K$301)) | E14: =IF($D14<5,"",IF($C14="نعم",SUMPRODUCT((('الردود'!$B$2:$B$301=$B$3)+($B$3="")>0)*('الردود'!$K$2:$K$301>=1)*('الردود'!$K$2:$K$301<=2)),SUMPRODUCT((('الردود'!$B$2:$B$301=$B$3)+($B$3="")>0)*('الردود'!$K$2:$K$301>=4)*('الردود'!$K$2:$K$301<=5)))/$D14) | F14: =IF($D14<5,"",IF($C14="نعم",SUMPRODUCT((('الردود'!$B$2:$B$301=$B$3)+($B$3="")>0)*('الردود'!$K$2:$K$301>=4)*('الردود'!$K$2:$K$301<=5)),SUMPRODUCT((('الردود'!$B$2:$B$301=$B$3)+($B$3="")>0)*('الردود'!$K$2:$K$301>=1)*('الردود'!$K$2:$K$301<=2)))/$D14) | G14: =IF($D14<5,"",IF($C14="نعم",6-SUMPRODUCT((('الردود'!$B$2:$B$301=$B$3)+($B$3="")>0)*ISNUMBER('الردود'!$K$2:$K$301)*'الردود'!$K$2:$K$301)/$D14,SUMPRODUCT((('الردود'!$B$2:$B$301=$B$3)+($B$3="")>0)*ISNUMBER('الردود'!$K$2:$K$301)*'الردود'!$K$2:$K$301)/$D14))
A15: 10 | B15: المواد التدريبية مفيدة عندما أرجع إليها لاحقاً. | C15: لا | D15: =SUMPRODUCT((('الردود'!$B$2:$B$301=$B$3)+($B$3="")>0)*ISNUMBER('الردود'!$L$2:$L$301)) | E15: =IF($D15<5,"",IF($C15="نعم",SUMPRODUCT((('الردود'!$B$2:$B$301=$B$3)+($B$3="")>0)*('الردود'!$L$2:$L$301>=1)*('الردود'!$L$2:$L$301<=2)),SUMPRODUCT((('الردود'!$B$2:$B$301=$B$3)+($B$3="")>0)*('الردود'!$L$2:$L$301>=4)*('الردود'!$L$2:$L$301<=5)))/$D15) | F15: =IF($D15<5,"",IF($C15="نعم",SUMPRODUCT((('الردود'!$B$2:$B$301=$B$3)+($B$3="")>0)*('الردود'!$L$2:$L$301>=4)*('الردود'!$L$2:$L$301<=5)),SUMPRODUCT((('الردود'!$B$2:$B$301=$B$3)+($B$3="")>0)*('الردود'!$L$2:$L$301>=1)*('الردود'!$L$2:$L$301<=2)))/$D15) | G15: =IF($D15<5,"",IF($C15="نعم",6-SUMPRODUCT((('الردود'!$B$2:$B$301=$B$3)+($B$3="")>0)*ISNUMBER('الردود'!$L$2:$L$301)*'الردود'!$L$2:$L$301)/$D15,SUMPRODUCT((('الردود'!$B$2:$B$301=$B$3)+($B$3="")>0)*ISNUMBER('الردود'!$L$2:$L$301)*'الردود'!$L$2:$L$301)/$D15))
A16: 11 | B16: أحصل على التدريب الذي أحتاجه لأقوم بعملي بأمان. | C16: لا | D16: =SUMPRODUCT((('الردود'!$B$2:$B$301=$B$3)+($B$3="")>0)*ISNUMBER('الردود'!$M$2:$M$301)) | E16: =IF($D16<5,"",IF($C16="نعم",SUMPRODUCT((('الردود'!$B$2:$B$301=$B$3)+($B$3="")>0)*('الردود'!$M$2:$M$301>=1)*('الردود'!$M$2:$M$301<=2)),SUMPRODUCT((('الردود'!$B$2:$B$301=$B$3)+($B$3="")>0)*('الردود'!$M$2:$M$301>=4)*('الردود'!$M$2:$M$301<=5)))/$D16) | F16: =IF($D16<5,"",IF($C16="نعم",SUMPRODUCT((('الردود'!$B$2:$B$301=$B$3)+($B$3="")>0)*('الردود'!$M$2:$M$301>=4)*('الردود'!$M$2:$M$301<=5)),SUMPRODUCT((('الردود'!$B$2:$B$301=$B$3)+($B$3="")>0)*('الردود'!$M$2:$M$301>=1)*('الردود'!$M$2:$M$301<=2)))/$D16) | G16: =IF($D16<5,"",IF($C16="نعم",6-SUMPRODUCT((('الردود'!$B$2:$B$301=$B$3)+($B$3="")>0)*ISNUMBER('الردود'!$M$2:$M$301)*'الردود'!$M$2:$M$301)/$D16,SUMPRODUCT((('الردود'!$B$2:$B$301=$B$3)+($B$3="")>0)*ISNUMBER('الردود'!$M$2:$M$301)*'الردود'!$M$2:$M$301)/$D16))
A17: 12 | B17: التدريب الذي أحصل عليه يساعدني على التقدم في مساري المهني. | C17: لا | D17: =SUMPRODUCT((('الردود'!$B$2:$B$301=$B$3)+($B$3="")>0)*ISNUMBER('الردود'!$N$2:$N$301)) | E17: =IF($D17<5,"",IF($C17="نعم",SUMPRODUCT((('الردود'!$B$2:$B$301=$B$3)+($B$3="")>0)*('الردود'!$N$2:$N$301>=1)*('الردود'!$N$2:$N$301<=2)),SUMPRODUCT((('الردود'!$B$2:$B$301=$B$3)+($B$3="")>0)*('الردود'!$N$2:$N$301>=4)*('الردود'!$N$2:$N$301<=5)))/$D17) | F17: =IF($D17<5,"",IF($C17="نعم",SUMPRODUCT((('الردود'!$B$2:$B$301=$B$3)+($B$3="")>0)*('الردود'!$N$2:$N$301>=4)*('الردود'!$N$2:$N$301<=5)),SUMPRODUCT((('الردود'!$B$2:$B$301=$B$3)+($B$3="")>0)*('الردود'!$N$2:$N$301>=1)*('الردود'!$N$2:$N$301<=2)))/$D17) | G17: =IF($D17<5,"",IF($C17="نعم",6-SUMPRODUCT((('الردود'!$B$2:$B$301=$B$3)+($B$3="")>0)*ISNUMBER('الردود'!$N$2:$N$301)*'الردود'!$N$2:$N$301)/$D17,SUMPRODUCT((('الردود'!$B$2:$B$301=$B$3)+($B$3="")>0)*ISNUMBER('الردود'!$N$2:$N$301)*'الردود'!$N$2:$N$301)/$D17))
A18: 13 | B18: أستطيع أن أطلب التدريب الذي أرى أنني أحتاجه. | C18: لا | D18: =SUMPRODUCT((('الردود'!$B$2:$B$301=$B$3)+($B$3="")>0)*ISNUMBER('الردود'!$O$2:$O$301)) | E18: =IF($D18<5,"",IF($C18="نعم",SUMPRODUCT((('الردود'!$B$2:$B$301=$B$3)+($B$3="")>0)*('الردود'!$O$2:$O$301>=1)*('الردود'!$O$2:$O$301<=2)),SUMPRODUCT((('الردود'!$B$2:$B$301=$B$3)+($B$3="")>0)*('الردود'!$O$2:$O$301>=4)*('الردود'!$O$2:$O$301<=5)))/$D18) | F18: =IF($D18<5,"",IF($C18="نعم",SUMPRODUCT((('الردود'!$B$2:$B$301=$B$3)+($B$3="")>0)*('الردود'!$O$2:$O$301>=4)*('الردود'!$O$2:$O$301<=5)),SUMPRODUCT((('الردود'!$B$2:$B$301=$B$3)+($B$3="")>0)*('الردود'!$O$2:$O$301>=1)*('الردود'!$O$2:$O$301<=2)))/$D18) | G18: =IF($D18<5,"",IF($C18="نعم",6-SUMPRODUCT((('الردود'!$B$2:$B$301=$B$3)+($B$3="")>0)*ISNUMBER('الردود'!$O$2:$O$301)*'الردود'!$O$2:$O$301)/$D18,SUMPRODUCT((('الردود'!$B$2:$B$301=$B$3)+($B$3="")>0)*ISNUMBER('الردود'!$O$2:$O$301)*'الردود'!$O$2:$O$301)/$D18))
A19: 14 | B19: بشكل عام، التدريب هنا يساعدني على أداء عملي بشكل أفضل. | C19: لا | D19: =SUMPRODUCT((('الردود'!$B$2:$B$301=$B$3)+($B$3="")>0)*ISNUMBER('الردود'!$P$2:$P$301)) | E19: =IF($D19<5,"",IF($C19="نعم",SUMPRODUCT((('الردود'!$B$2:$B$301=$B$3)+($B$3="")>0)*('الردود'!$P$2:$P$301>=1)*('الردود'!$P$2:$P$301<=2)),SUMPRODUCT((('الردود'!$B$2:$B$301=$B$3)+($B$3="")>0)*('الردود'!$P$2:$P$301>=4)*('الردود'!$P$2:$P$301<=5)))/$D19) | F19: =IF($D19<5,"",IF($C19="نعم",SUMPRODUCT((('الردود'!$B$2:$B$301=$B$3)+($B$3="")>0)*('الردود'!$P$2:$P$301>=4)*('الردود'!$P$2:$P$301<=5)),SUMPRODUCT((('الردود'!$B$2:$B$301=$B$3)+($B$3="")>0)*('الردود'!$P$2:$P$301>=1)*('الردود'!$P$2:$P$301<=2)))/$D19) | G19: =IF($D19<5,"",IF($C19="نعم",6-SUMPRODUCT((('الردود'!$B$2:$B$301=$B$3)+($B$3="")>0)*ISNUMBER('الردود'!$P$2:$P$301)*'الردود'!$P$2:$P$301)/$D19,SUMPRODUCT((('الردود'!$B$2:$B$301=$B$3)+($B$3="")>0)*ISNUMBER('الردود'!$P$2:$P$301)*'الردود'!$P$2:$P$301)/$D19))
